BEGIN:VCALENDAR
VERSION:2.0
PRODID:-//SVP Sektion Gossau ZH //NONSGML Events //EN
CALSCALE:GREGORIAN
X-WR-CALNAME:SVP Sektion Gossau ZH
BEGIN:VEVENT
CREATED:20241208T102207Z
UID:932
DTEND:20250211T220000
DTSTART:20250211T200000
DTSTAMP:20260422T110224Z
LOCATION:Gossau
DESCRIPTION:
SUMMARY:Vorstandssitzung
ORGANIZER:
URL;VALUE=URI:https://www.svp-gossau-zh.ch/termine/vorstandssitzung/
TRANSP:OPAQUE
END:VEVENT
END:VCALENDAR
